BEGIN:VCALENDAR
VERSION:2.0
PRODID:-//AIGA Sezione di Lucca | Associazione Italiana Giovani Avvocati//NONSGML kigkonsult.se iCalcreator 2.41.92//
CALSCALE:GREGORIAN
METHOD:PUBLISH
UID:62373830-3634-4337-b031-656437633364
X-WR-CALNAME:iCagenda
X-WR-CALDESC:Event Management Extension for Joomla!
X-WR-RELCALID:3E26604A-50F4-4449-8B3E-E4F4932D05B5
X-WR-TIMEZONE:Europe/Rome
BEGIN:VTIMEZONE
TZID:Europe/Rome
TZUNTIL:20271031T010000Z
BEGIN:STANDARD
TZNAME:CET
DTSTART:20251026T030000
TZOFFSETFROM:+0200
TZOFFSETTO:+0100
RDATE:20261025T030000
END:STANDARD
BEGIN:DAYLIGHT
TZNAME:CEST
DTSTART:20250330T020000
TZOFFSETFROM:+0100
TZOFFSETTO:+0200
RDATE:20260329T020000
RDATE:20270328T020000
END:DAYLIGHT
END:VTIMEZONE
BEGIN:VEVENT
UID:64613932-3535-4133-b932-663232366532
DTSTAMP:20260420T115745Z
CATEGORIES:Conviviali
CLASS:PUBLIC
DESCRIPTION;ALTREP="CID:<FFFF__=0ABBE548DFE235B58f9e8a93d@coffeebean.com>":
 &nbsp\;Contributo di partecipazione:€ 30 per i soci AIGA€ 35 per i non isc
 ritti(con pagamento tramite bonifico alle coordinate indicate nel form)\nL
 e iscrizioni chiuderanno il 12 dicembre\, quindi vi invitiamo a prenotare 
 quanto prima.\nSarà una serata piacevole\, informale e perfetta per scambi
 arci gli auguri di fine anno. Vi aspettiamo con piacere!\nChristmas Party 
 2025
DTSTART:20251218T180000Z
DTEND:20251218T180000Z
GEO:+43.840332;+10.514693
LOCATION:Celide Bistrot
ORGANIZER;CN=:mailto:aigalucca.organizza@gmail.com
SEQUENCE:1
SUMMARY:AIGA Christmas Party 2025
TRANSP:OPAQUE
URL:https://www.aigalucca.it/eventi/eventi-passati/aiga-christmas-party-202
 5/2025-12-18-19-00.html
END:VEVENT
END:VCALENDAR
