BEGIN:VCALENDAR
VERSION:2.0
PRODID:-//AIGA Sezione di Lucca | Associazione Italiana Giovani Avvocati//NONSGML kigkonsult.se iCalcreator 2.41.92//
CALSCALE:GREGORIAN
METHOD:PUBLISH
UID:37376436-6338-4732-a633-393231366266
X-WR-CALNAME:iCagenda
X-WR-CALDESC:Event Management Extension for Joomla!
X-WR-RELCALID:3E26604A-50F4-4449-8B3E-E4F4932D05B5
X-WR-TIMEZONE:Europe/Rome
BEGIN:VTIMEZONE
TZID:Europe/Rome
TZUNTIL:20270328T010000Z
BEGIN:STANDARD
TZNAME:CET
DTSTART:20241027T030000
TZOFFSETFROM:+0200
TZOFFSETTO:+0100
RDATE:20251026T030000
RDATE:20261025T030000
END:STANDARD
BEGIN:DAYLIGHT
TZNAME:CEST
DTSTART:20250330T020000
TZOFFSETFROM:+0100
TZOFFSETTO:+0200
RDATE:20260329T020000
END:DAYLIGHT
END:VTIMEZONE
BEGIN:VEVENT
UID:35616265-3261-4832-a462-393064313566
DTSTAMP:20260420T120307Z
CATEGORIES:Conviviali
CLASS:PUBLIC
DESCRIPTION;ALTREP="CID:<FFFF__=0ABBE548DFE235B58f9e8a93d@coffeebean.com>":
 Giovedì 10 luglio 2025\, dalle ore 19:30 📍 Bagno Arizona\, Darsena di Viar
 eggio\nAIGA Lucca è lieta di invitare tutti gli iscritti e gli amici dell’
 associazione all’Assemblea annuale dei Soci\, seguita dal consueto Summer 
 Party in spiaggia.\n🗳️ Assemblea dei Soci (ore 19:30) L’assemblea rapprese
 nta il momento più importante della vita associativa: un’occasione per far
 e il punto sull’anno trascorso\, condividere progetti e rinnovare il Consi
 glio Direttivo per il triennio 2025–2027. La partecipazione attiva è fonda
 mentale!\n🍸 Aperitivo &amp\; Festa in spiaggia (a seguire) Dopo l’assemble
 a\, ci fermeremo per un aperitivo fronte mare nella suggestiva cornice del
  Bagno Arizona\, per accogliere insieme l’estate e trascorrere una serata 
 conviviale tra colleghe e colleghi.\n📌 Contributo di partecipazione:\n\n€ 
 35\,00 per i Soci AIGA\n€ 45\,00 per i non Soci\n\n📝 Prenotazioni entro il
  3 luglio 2025\, compilando il form disponibile al seguente link: 👉 https:
 //forms.gle/mht1yRascnD9fMvu8\n💳 Modalità di pagamento: Il versamento dell
 a quota è consigliato a mezzo bonifico\, secondo le istruzioni riportate n
 el modulo di iscrizione.\n📅 Segna la data in agenda e non mancare! Ti aspe
 ttiamo per un momento importante… e per una serata da ricordare!\nIl Diret
 tivo AIGA Lucca
DTSTART:20250710T173000Z
DTEND:20250710T173000Z
GEO:+43.849182;+10.245055
LOCATION:Via Marina di Levante\, Viale Europa\, 25\, 55049 Viareggio LU
ORGANIZER:
SEQUENCE:1
SUMMARY:AIGA Summer Party 2025
TRANSP:OPAQUE
URL:https://www.aigalucca.it/eventi/eventi-passati/aiga-summer-party-2025/2
 025-07-10-19-30.html
END:VEVENT
END:VCALENDAR
