BEGIN:VCALENDAR
VERSION:2.0
PRODID:-//AIGA Sezione di Lucca | Associazione Italiana Giovani Avvocati//NONSGML kigkonsult.se iCalcreator 2.41.92//
CALSCALE:GREGORIAN
METHOD:PUBLISH
UID:35303633-6462-4535-a261-316336323264
X-WR-CALNAME:iCagenda
X-WR-CALDESC:Event Management Extension for Joomla!
X-WR-RELCALID:3E26604A-50F4-4449-8B3E-E4F4932D05B5
X-WR-TIMEZONE:Europe/Rome
BEGIN:VTIMEZONE
TZID:Europe/Rome
TZUNTIL:20261025T010000Z
BEGIN:STANDARD
TZNAME:CET
DTSTART:20241027T030000
TZOFFSETFROM:+0200
TZOFFSETTO:+0100
RDATE:20251026T030000
END:STANDARD
BEGIN:DAYLIGHT
TZNAME:CEST
DTSTART:20250330T020000
TZOFFSETFROM:+0100
TZOFFSETTO:+0200
RDATE:20260329T020000
END:DAYLIGHT
END:VTIMEZONE
BEGIN:VEVENT
UID:63653964-6264-4238-b734-393463363165
DTSTAMP:20260420T115321Z
CATEGORIES:Conviviali
CLASS:PUBLIC
DESCRIPTION;ALTREP="CID:<FFFF__=0ABBE548DFE235B58f9e8a93d@coffeebean.com>":
 Festeggiamo la primavera con un aperitivo informale aperto ai Soci e agli 
 amici di AIGA\, in uno dei luoghi più noti per gli aperitivi lucchesi.\nUn
 'occasione per ritrovarci e fare un brindisi\, che male non fa...
DTSTART:20250410T170000Z
DTEND:20250410T190000Z
GEO:+43.846951;+10.508024
LOCATION:Porta dei Borghi - Via Michele Rosi\, 16\, 55100 Lucca LU
ORGANIZER:
SEQUENCE:1
SUMMARY:AperiAIGA - Aprile 2025
TRANSP:OPAQUE
URL:https://www.aigalucca.it/eventi/eventi-passati/aperiaiga-aprile-2025/20
 25-04-10-19-00.html
END:VEVENT
END:VCALENDAR
