BEGIN:VCALENDAR
VERSION:2.0
PRODID:-//AIGA Sezione di Lucca | Associazione Italiana Giovani Avvocati//NONSGML kigkonsult.se iCalcreator 2.41.92//
CALSCALE:GREGORIAN
METHOD:PUBLISH
UID:61666664-3135-4163-a332-663034393730
X-WR-CALNAME:iCagenda
X-WR-CALDESC:Event Management Extension for Joomla!
X-WR-RELCALID:3E26604A-50F4-4449-8B3E-E4F4932D05B5
X-WR-TIMEZONE:Europe/Rome
BEGIN:VTIMEZONE
TZID:Europe/Rome
TZUNTIL:20270328T010000Z
BEGIN:STANDARD
TZNAME:CET
DTSTART:20241027T030000
TZOFFSETFROM:+0200
TZOFFSETTO:+0100
RDATE:20251026T030000
RDATE:20261025T030000
END:STANDARD
BEGIN:DAYLIGHT
TZNAME:CEST
DTSTART:20250330T020000
TZOFFSETFROM:+0100
TZOFFSETTO:+0200
RDATE:20260329T020000
END:DAYLIGHT
END:VTIMEZONE
BEGIN:VEVENT
UID:35363630-3661-4464-b233-383962383163
DTSTAMP:20260420T120144Z
CATEGORIES:Conviviali
CLASS:PUBLIC
DESCRIPTION;ALTREP="CID:<FFFF__=0ABBE548DFE235B58f9e8a93d@coffeebean.com>":
 ✨🍹 APERITIVO della RIPARTENZA 🍻✨\nSi ricomincia!! Udienze\, atti\, scadenz
 e\, appuntamenti...ma c'è sempre spazio per staccare due ore e farci un bi
 cchiere in compagnia! 🥂\nUn’occasione perfetta per fare due chiacchierare 
 e stringere contatti tra giovani colleghi 👩‍⚖👨‍⚖\n🎯 l'invito è valido anch
 e per chi non è iscritto ad Aiga\, quindi sentitevi liberi di portare chi 
 volete! E' l'occasione buona per rompere il ghiaccio e conoscerci senza tr
 oppe formalità..\n📅 giovedì 18 settembre 2025 - dalle 19.00📍 in piazzetta 
 a Porta dei Borghi (Ciclo Divino\, De Cervesia\,&nbsp\;Vinaiolo&nbsp\;etc.
 .)\nVi&nbsp\;aspettiamo!!&nbsp\;
DTSTART:20250918T170000Z
DTEND:20250918T200000Z
GEO:+43.846951;+10.508024
LOCATION:Porta dei Borghi - Via Michele Rosi\, 16\, 55100 Lucca LU
ORGANIZER:
SEQUENCE:1
SUMMARY:AperiAIGA (della Ripartenza) - Settembre 2025
TRANSP:OPAQUE
URL:https://www.aigalucca.it/eventi/eventi-passati/aperiaiga-della-riparten
 za-settembre-2025/2025-09-18-19-00.html
END:VEVENT
END:VCALENDAR
