BEGIN:VCALENDAR
VERSION:2.0
PRODID:-//AIGA Sezione di Lucca | Associazione Italiana Giovani Avvocati//NONSGML kigkonsult.se iCalcreator 2.41.92//
CALSCALE:GREGORIAN
METHOD:PUBLISH
UID:32663830-3661-4961-b134-313665626338
X-WR-CALNAME:iCagenda
X-WR-CALDESC:Event Management Extension for Joomla!
X-WR-RELCALID:3E26604A-50F4-4449-8B3E-E4F4932D05B5
X-WR-TIMEZONE:Europe/Rome
BEGIN:VTIMEZONE
TZID:Europe/Rome
TZUNTIL:20251026T010000Z
BEGIN:STANDARD
TZNAME:CET
DTSTART:20231029T030000
TZOFFSETFROM:+0200
TZOFFSETTO:+0100
RDATE:20241027T030000
END:STANDARD
BEGIN:DAYLIGHT
TZNAME:CEST
DTSTART:20230326T020000
TZOFFSETFROM:+0100
TZOFFSETTO:+0200
RDATE:20240331T020000
RDATE:20250330T020000
END:DAYLIGHT
END:VTIMEZONE
BEGIN:VEVENT
UID:65643566-3533-4130-b732-323138323731
DTSTAMP:20260420T115719Z
CATEGORIES:Conviviali
CLASS:PUBLIC
DESCRIPTION;ALTREP="CID:<FFFF__=0ABBE548DFE235B58f9e8a93d@coffeebean.com>":
 Oltre agli eventi formativi\, AIGA Lucca organizza anche eventi più conviv
 iali.\nL'evento è aperto a tutti i Soci\, ma anche a tutti i simpatizzanti
  e curiosi che intendano passare un po' di tempo insieme.\nVi aspettiamo!
DTSTART:20240307T180000Z
DTEND:20240307T180000Z
GEO:+43.840504;+10.51457
LOCATION:Caffè Celide Bistrot
ORGANIZER:
SEQUENCE:1
SUMMARY:AperiAIGA - Marzo 2024
TRANSP:OPAQUE
URL:https://www.aigalucca.it/eventi/eventi-passati/aperiaiga/2024-03-07-19-
 00.html
END:VEVENT
END:VCALENDAR
