BEGIN:VCALENDAR
VERSION:2.0
PRODID:-//AIGA Sezione di Lucca | Associazione Italiana Giovani Avvocati//NONSGML kigkonsult.se iCalcreator 2.41.92//
CALSCALE:GREGORIAN
METHOD:PUBLISH
UID:35666239-3038-4530-b137-636662663863
X-WR-CALNAME:iCagenda
X-WR-CALDESC:Event Management Extension for Joomla!
X-WR-RELCALID:3E26604A-50F4-4449-8B3E-E4F4932D05B5
X-WR-TIMEZONE:Europe/Rome
BEGIN:VTIMEZONE
TZID:Europe/Rome
TZUNTIL:20261025T010000Z
BEGIN:STANDARD
TZNAME:CET
DTSTART:20231029T030000
TZOFFSETFROM:+0200
TZOFFSETTO:+0100
RDATE:20241027T030000
RDATE:20251026T030000
END:STANDARD
BEGIN:DAYLIGHT
TZNAME:CEST
DTSTART:20240331T020000
TZOFFSETFROM:+0100
TZOFFSETTO:+0200
RDATE:20250330T020000
RDATE:20260329T020000
END:DAYLIGHT
END:VTIMEZONE
BEGIN:VEVENT
UID:37353538-3436-4134-a439-613866363365
DTSTAMP:20260420T120434Z
CATEGORIES:Direttivi
CLASS:PUBLIC
DESCRIPTION;ALTREP="CID:<FFFF__=0ABBE548DFE235B58f9e8a93d@coffeebean.com>":
 Come da tradizione\, saltuariamente apriamo il consiglio alla partecipazio
 ne di tutti i soci\, per consentire a chi vuole di partecipare attivamente
  all'attività della sezione\, presentando nuove proposte che possono esser
 e di interesse per tutti noi.\nA seguire faremo un aperitivo per scambiare
  due chiacchiere\, nel migliore spirito AIGA.
DTSTART:20241017T163000Z
DTEND:20241017T193000Z
GEO:+43.840294;+10.514533
LOCATION:Celide Bistrot (Viale Giusti - Lucca)
ORGANIZER:
SEQUENCE:1
SUMMARY:Consiglio Direttivo aperto ai Soci
TRANSP:OPAQUE
URL:https://www.aigalucca.it/eventi/eventi-passati/consiglio-direttivo-aper
 to-ai-soci.html
END:VEVENT
END:VCALENDAR
